BEGIN:VCALENDAR
VERSION:2.0
PRODID:-//City of Zeeland - ECPv6.15.20//NONSGML v1.0//EN
CALSCALE:GREGORIAN
METHOD:PUBLISH
X-WR-CALNAME:City of Zeeland
X-ORIGINAL-URL:https://www.cityofzeeland.com
X-WR-CALDESC:Events for City of Zeeland
REFRESH-INTERVAL;VALUE=DURATION:PT1H
X-Robots-Tag:noindex
X-PUBLISHED-TTL:PT1H
BEGIN:VTIMEZONE
TZID:UTC
BEGIN:STANDARD
TZOFFSETFROM:+0000
TZOFFSETTO:+0000
TZNAME:UTC
DTSTART:20250101T000000
END:STANDARD
END:VTIMEZONE
BEGIN:VEVENT
DTSTART;TZID=UTC:20260518T190000
DTEND;TZID=UTC:20260518T200000
DTSTAMP:20260421T120259
CREATED:20260204T015216Z
LAST-MODIFIED:20260204T015216Z
UID:10000271-1779130800-1779134400@www.cityofzeeland.com
SUMMARY:City Council Meeting
DESCRIPTION:
URL:https://www.cityofzeeland.com/events/city-council-meeting-2/2026-05-18/
LOCATION:Zeeland City Hall\, 21 S. Elm Street\, City Hall\, Zeeland\, MI\, 49464\, United States
CATEGORIES:Meetings
END:VEVENT
BEGIN:VEVENT
DTSTART;TZID=UTC:20260615T190000
DTEND;TZID=UTC:20260615T200000
DTSTAMP:20260421T120259
CREATED:20260204T015216Z
LAST-MODIFIED:20260204T015216Z
UID:10000272-1781550000-1781553600@www.cityofzeeland.com
SUMMARY:City Council Meeting
DESCRIPTION:
URL:https://www.cityofzeeland.com/events/city-council-meeting-2/2026-06-15/
LOCATION:Zeeland City Hall\, 21 S. Elm Street\, City Hall\, Zeeland\, MI\, 49464\, United States
CATEGORIES:Meetings
END:VEVENT
BEGIN:VEVENT
DTSTART;TZID=UTC:20260720T190000
DTEND;TZID=UTC:20260720T200000
DTSTAMP:20260421T120259
CREATED:20260204T015216Z
LAST-MODIFIED:20260204T015216Z
UID:10000273-1784574000-1784577600@www.cityofzeeland.com
SUMMARY:City Council Meeting
DESCRIPTION:
URL:https://www.cityofzeeland.com/events/city-council-meeting-2/2026-07-20/
LOCATION:Zeeland City Hall\, 21 S. Elm Street\, City Hall\, Zeeland\, MI\, 49464\, United States
CATEGORIES:Meetings
END:VEVENT
BEGIN:VEVENT
DTSTART;TZID=UTC:20260817T190000
DTEND;TZID=UTC:20260817T200000
DTSTAMP:20260421T120259
CREATED:20260204T015216Z
LAST-MODIFIED:20260204T015216Z
UID:10000274-1786993200-1786996800@www.cityofzeeland.com
SUMMARY:City Council Meeting
DESCRIPTION:
URL:https://www.cityofzeeland.com/events/city-council-meeting-2/2026-08-17/
LOCATION:Zeeland City Hall\, 21 S. Elm Street\, City Hall\, Zeeland\, MI\, 49464\, United States
CATEGORIES:Meetings
END:VEVENT
BEGIN:VEVENT
DTSTART;TZID=UTC:20260921T190000
DTEND;TZID=UTC:20260921T200000
DTSTAMP:20260421T120259
CREATED:20260204T015216Z
LAST-MODIFIED:20260204T015216Z
UID:10000275-1790017200-1790020800@www.cityofzeeland.com
SUMMARY:City Council Meeting
DESCRIPTION:
URL:https://www.cityofzeeland.com/events/city-council-meeting-2/2026-09-21/
LOCATION:Zeeland City Hall\, 21 S. Elm Street\, City Hall\, Zeeland\, MI\, 49464\, United States
CATEGORIES:Meetings
END:VEVENT
BEGIN:VEVENT
DTSTART;TZID=UTC:20261019T190000
DTEND;TZID=UTC:20261019T200000
DTSTAMP:20260421T120259
CREATED:20260204T015216Z
LAST-MODIFIED:20260204T015216Z
UID:10000276-1792436400-1792440000@www.cityofzeeland.com
SUMMARY:City Council Meeting
DESCRIPTION:
URL:https://www.cityofzeeland.com/events/city-council-meeting-2/2026-10-19/
LOCATION:Zeeland City Hall\, 21 S. Elm Street\, City Hall\, Zeeland\, MI\, 49464\, United States
CATEGORIES:Meetings
END:VEVENT
BEGIN:VEVENT
DTSTART;TZID=UTC:20261116T190000
DTEND;TZID=UTC:20261116T200000
DTSTAMP:20260421T120259
CREATED:20260204T015216Z
LAST-MODIFIED:20260204T015216Z
UID:10000277-1794855600-1794859200@www.cityofzeeland.com
SUMMARY:City Council Meeting
DESCRIPTION:
URL:https://www.cityofzeeland.com/events/city-council-meeting-2/2026-11-16/
LOCATION:Zeeland City Hall\, 21 S. Elm Street\, City Hall\, Zeeland\, MI\, 49464\, United States
CATEGORIES:Meetings
END:VEVENT
BEGIN:VEVENT
DTSTART;TZID=UTC:20261221T190000
DTEND;TZID=UTC:20261221T200000
DTSTAMP:20260421T120259
CREATED:20260204T015216Z
LAST-MODIFIED:20260204T015216Z
UID:10000278-1797879600-1797883200@www.cityofzeeland.com
SUMMARY:City Council Meeting
DESCRIPTION:
URL:https://www.cityofzeeland.com/events/city-council-meeting-2/2026-12-21/
LOCATION:Zeeland City Hall\, 21 S. Elm Street\, City Hall\, Zeeland\, MI\, 49464\, United States
CATEGORIES:Meetings
END:VEVENT
BEGIN:VEVENT
DTSTART;TZID=UTC:20270119T190000
DTEND;TZID=UTC:20270119T200000
DTSTAMP:20260421T120259
CREATED:20260220T023319Z
LAST-MODIFIED:20260220T023319Z
UID:10000279-1800385200-1800388800@www.cityofzeeland.com
SUMMARY:City Council Meeting
DESCRIPTION:
URL:https://www.cityofzeeland.com/events/city-council-meeting-2-2/2027-01-19/
LOCATION:Zeeland City Hall\, 21 S. Elm Street\, City Hall\, Zeeland\, MI\, 49464\, United States
CATEGORIES:Meetings
END:VEVENT
BEGIN:VEVENT
DTSTART;TZID=UTC:20270216T190000
DTEND;TZID=UTC:20270216T200000
DTSTAMP:20260421T120259
CREATED:20260220T023319Z
LAST-MODIFIED:20260220T023319Z
UID:10000492-1802804400-1802808000@www.cityofzeeland.com
SUMMARY:City Council Meeting
DESCRIPTION:
URL:https://www.cityofzeeland.com/events/city-council-meeting-2-2/2027-02-16/
LOCATION:Zeeland City Hall\, 21 S. Elm Street\, City Hall\, Zeeland\, MI\, 49464\, United States
CATEGORIES:Meetings
END:VEVENT
BEGIN:VEVENT
DTSTART;TZID=UTC:20270316T190000
DTEND;TZID=UTC:20270316T200000
DTSTAMP:20260421T120259
CREATED:20260220T023319Z
LAST-MODIFIED:20260220T023319Z
UID:10000493-1805223600-1805227200@www.cityofzeeland.com
SUMMARY:City Council Meeting
DESCRIPTION:
URL:https://www.cityofzeeland.com/events/city-council-meeting-2-2/2027-03-16/
LOCATION:Zeeland City Hall\, 21 S. Elm Street\, City Hall\, Zeeland\, MI\, 49464\, United States
CATEGORIES:Meetings
END:VEVENT
BEGIN:VEVENT
DTSTART;TZID=UTC:20270420T190000
DTEND;TZID=UTC:20270420T200000
DTSTAMP:20260421T120259
CREATED:20260220T023319Z
LAST-MODIFIED:20260220T023319Z
UID:10000494-1808247600-1808251200@www.cityofzeeland.com
SUMMARY:City Council Meeting
DESCRIPTION:
URL:https://www.cityofzeeland.com/events/city-council-meeting-2-2/2027-04-20/
LOCATION:Zeeland City Hall\, 21 S. Elm Street\, City Hall\, Zeeland\, MI\, 49464\, United States
CATEGORIES:Meetings
END:VEVENT
BEGIN:VEVENT
DTSTART;TZID=UTC:20270518T190000
DTEND;TZID=UTC:20270518T200000
DTSTAMP:20260421T120259
CREATED:20260220T023319Z
LAST-MODIFIED:20260220T023319Z
UID:10000495-1810666800-1810670400@www.cityofzeeland.com
SUMMARY:City Council Meeting
DESCRIPTION:
URL:https://www.cityofzeeland.com/events/city-council-meeting-2-2/2027-05-18/
LOCATION:Zeeland City Hall\, 21 S. Elm Street\, City Hall\, Zeeland\, MI\, 49464\, United States
CATEGORIES:Meetings
END:VEVENT
BEGIN:VEVENT
DTSTART;TZID=UTC:20270615T190000
DTEND;TZID=UTC:20270615T200000
DTSTAMP:20260421T120259
CREATED:20260220T023319Z
LAST-MODIFIED:20260220T023319Z
UID:10000496-1813086000-1813089600@www.cityofzeeland.com
SUMMARY:City Council Meeting
DESCRIPTION:
URL:https://www.cityofzeeland.com/events/city-council-meeting-2-2/2027-06-15/
LOCATION:Zeeland City Hall\, 21 S. Elm Street\, City Hall\, Zeeland\, MI\, 49464\, United States
CATEGORIES:Meetings
END:VEVENT
BEGIN:VEVENT
DTSTART;TZID=UTC:20270720T190000
DTEND;TZID=UTC:20270720T200000
DTSTAMP:20260421T120259
CREATED:20260220T023319Z
LAST-MODIFIED:20260220T023319Z
UID:10000497-1816110000-1816113600@www.cityofzeeland.com
SUMMARY:City Council Meeting
DESCRIPTION:
URL:https://www.cityofzeeland.com/events/city-council-meeting-2-2/2027-07-20/
LOCATION:Zeeland City Hall\, 21 S. Elm Street\, City Hall\, Zeeland\, MI\, 49464\, United States
CATEGORIES:Meetings
END:VEVENT
BEGIN:VEVENT
DTSTART;TZID=UTC:20270817T190000
DTEND;TZID=UTC:20270817T200000
DTSTAMP:20260421T120259
CREATED:20260220T023319Z
LAST-MODIFIED:20260220T023319Z
UID:10000498-1818529200-1818532800@www.cityofzeeland.com
SUMMARY:City Council Meeting
DESCRIPTION:
URL:https://www.cityofzeeland.com/events/city-council-meeting-2-2/2027-08-17/
LOCATION:Zeeland City Hall\, 21 S. Elm Street\, City Hall\, Zeeland\, MI\, 49464\, United States
CATEGORIES:Meetings
END:VEVENT
BEGIN:VEVENT
DTSTART;TZID=UTC:20270921T190000
DTEND;TZID=UTC:20270921T200000
DTSTAMP:20260421T120259
CREATED:20260220T023319Z
LAST-MODIFIED:20260220T023319Z
UID:10000499-1821553200-1821556800@www.cityofzeeland.com
SUMMARY:City Council Meeting
DESCRIPTION:
URL:https://www.cityofzeeland.com/events/city-council-meeting-2-2/2027-09-21/
LOCATION:Zeeland City Hall\, 21 S. Elm Street\, City Hall\, Zeeland\, MI\, 49464\, United States
CATEGORIES:Meetings
END:VEVENT
BEGIN:VEVENT
DTSTART;TZID=UTC:20271019T190000
DTEND;TZID=UTC:20271019T200000
DTSTAMP:20260421T120259
CREATED:20260220T023319Z
LAST-MODIFIED:20260220T023319Z
UID:10000500-1823972400-1823976000@www.cityofzeeland.com
SUMMARY:City Council Meeting
DESCRIPTION:
URL:https://www.cityofzeeland.com/events/city-council-meeting-2-2/2027-10-19/
LOCATION:Zeeland City Hall\, 21 S. Elm Street\, City Hall\, Zeeland\, MI\, 49464\, United States
CATEGORIES:Meetings
END:VEVENT
BEGIN:VEVENT
DTSTART;TZID=UTC:20271116T190000
DTEND;TZID=UTC:20271116T200000
DTSTAMP:20260421T120259
CREATED:20260220T023319Z
LAST-MODIFIED:20260220T023319Z
UID:10000501-1826391600-1826395200@www.cityofzeeland.com
SUMMARY:City Council Meeting
DESCRIPTION:
URL:https://www.cityofzeeland.com/events/city-council-meeting-2-2/2027-11-16/
LOCATION:Zeeland City Hall\, 21 S. Elm Street\, City Hall\, Zeeland\, MI\, 49464\, United States
CATEGORIES:Meetings
END:VEVENT
BEGIN:VEVENT
DTSTART;TZID=UTC:20271221T190000
DTEND;TZID=UTC:20271221T200000
DTSTAMP:20260421T120259
CREATED:20260220T023319Z
LAST-MODIFIED:20260220T023319Z
UID:10000502-1829415600-1829419200@www.cityofzeeland.com
SUMMARY:City Council Meeting
DESCRIPTION:
URL:https://www.cityofzeeland.com/events/city-council-meeting-2-2/2027-12-21/
LOCATION:Zeeland City Hall\, 21 S. Elm Street\, City Hall\, Zeeland\, MI\, 49464\, United States
CATEGORIES:Meetings
END:VEVENT
BEGIN:VEVENT
DTSTART;TZID=UTC:20280118T190000
DTEND;TZID=UTC:20280118T200000
DTSTAMP:20260421T120259
CREATED:20260220T023319Z
LAST-MODIFIED:20260220T023319Z
UID:10000503-1831834800-1831838400@www.cityofzeeland.com
SUMMARY:City Council Meeting
DESCRIPTION:
URL:https://www.cityofzeeland.com/events/city-council-meeting-2-2/2028-01-18/
LOCATION:Zeeland City Hall\, 21 S. Elm Street\, City Hall\, Zeeland\, MI\, 49464\, United States
CATEGORIES:Meetings
END:VEVENT
BEGIN:VEVENT
DTSTART;TZID=UTC:20280215T190000
DTEND;TZID=UTC:20280215T200000
DTSTAMP:20260421T120259
CREATED:20260220T023319Z
LAST-MODIFIED:20260220T023319Z
UID:10000504-1834254000-1834257600@www.cityofzeeland.com
SUMMARY:City Council Meeting
DESCRIPTION:
URL:https://www.cityofzeeland.com/events/city-council-meeting-2-2/2028-02-15/
LOCATION:Zeeland City Hall\, 21 S. Elm Street\, City Hall\, Zeeland\, MI\, 49464\, United States
CATEGORIES:Meetings
END:VEVENT
BEGIN:VEVENT
DTSTART;TZID=UTC:20280321T190000
DTEND;TZID=UTC:20280321T200000
DTSTAMP:20260421T120259
CREATED:20260220T023319Z
LAST-MODIFIED:20260220T023319Z
UID:10000505-1837278000-1837281600@www.cityofzeeland.com
SUMMARY:City Council Meeting
DESCRIPTION:
URL:https://www.cityofzeeland.com/events/city-council-meeting-2-2/2028-03-21/
LOCATION:Zeeland City Hall\, 21 S. Elm Street\, City Hall\, Zeeland\, MI\, 49464\, United States
CATEGORIES:Meetings
END:VEVENT
BEGIN:VEVENT
DTSTART;TZID=UTC:20280418T190000
DTEND;TZID=UTC:20280418T200000
DTSTAMP:20260421T120259
CREATED:20260220T023319Z
LAST-MODIFIED:20260220T023319Z
UID:10000506-1839697200-1839700800@www.cityofzeeland.com
SUMMARY:City Council Meeting
DESCRIPTION:
URL:https://www.cityofzeeland.com/events/city-council-meeting-2-2/2028-04-18/
LOCATION:Zeeland City Hall\, 21 S. Elm Street\, City Hall\, Zeeland\, MI\, 49464\, United States
CATEGORIES:Meetings
END:VEVENT
BEGIN:VEVENT
DTSTART;TZID=UTC:20280516T190000
DTEND;TZID=UTC:20280516T200000
DTSTAMP:20260421T120259
CREATED:20260220T023319Z
LAST-MODIFIED:20260220T023319Z
UID:10000507-1842116400-1842120000@www.cityofzeeland.com
SUMMARY:City Council Meeting
DESCRIPTION:
URL:https://www.cityofzeeland.com/events/city-council-meeting-2-2/2028-05-16/
LOCATION:Zeeland City Hall\, 21 S. Elm Street\, City Hall\, Zeeland\, MI\, 49464\, United States
CATEGORIES:Meetings
END:VEVENT
BEGIN:VEVENT
DTSTART;TZID=UTC:20280620T190000
DTEND;TZID=UTC:20280620T200000
DTSTAMP:20260421T120259
CREATED:20260220T023319Z
LAST-MODIFIED:20260220T023319Z
UID:10000508-1845140400-1845144000@www.cityofzeeland.com
SUMMARY:City Council Meeting
DESCRIPTION:
URL:https://www.cityofzeeland.com/events/city-council-meeting-2-2/2028-06-20/
LOCATION:Zeeland City Hall\, 21 S. Elm Street\, City Hall\, Zeeland\, MI\, 49464\, United States
CATEGORIES:Meetings
END:VEVENT
BEGIN:VEVENT
DTSTART;TZID=UTC:20280718T190000
DTEND;TZID=UTC:20280718T200000
DTSTAMP:20260421T120259
CREATED:20260220T023319Z
LAST-MODIFIED:20260220T023319Z
UID:10000509-1847559600-1847563200@www.cityofzeeland.com
SUMMARY:City Council Meeting
DESCRIPTION:
URL:https://www.cityofzeeland.com/events/city-council-meeting-2-2/2028-07-18/
LOCATION:Zeeland City Hall\, 21 S. Elm Street\, City Hall\, Zeeland\, MI\, 49464\, United States
CATEGORIES:Meetings
END:VEVENT
BEGIN:VEVENT
DTSTART;TZID=UTC:20280815T190000
DTEND;TZID=UTC:20280815T200000
DTSTAMP:20260421T120259
CREATED:20260220T023319Z
LAST-MODIFIED:20260220T023319Z
UID:10000510-1849978800-1849982400@www.cityofzeeland.com
SUMMARY:City Council Meeting
DESCRIPTION:
URL:https://www.cityofzeeland.com/events/city-council-meeting-2-2/2028-08-15/
LOCATION:Zeeland City Hall\, 21 S. Elm Street\, City Hall\, Zeeland\, MI\, 49464\, United States
CATEGORIES:Meetings
END:VEVENT
BEGIN:VEVENT
DTSTART;TZID=UTC:20280919T190000
DTEND;TZID=UTC:20280919T200000
DTSTAMP:20260421T120259
CREATED:20260220T023319Z
LAST-MODIFIED:20260220T023319Z
UID:10000511-1853002800-1853006400@www.cityofzeeland.com
SUMMARY:City Council Meeting
DESCRIPTION:
URL:https://www.cityofzeeland.com/events/city-council-meeting-2-2/2028-09-19/
LOCATION:Zeeland City Hall\, 21 S. Elm Street\, City Hall\, Zeeland\, MI\, 49464\, United States
CATEGORIES:Meetings
END:VEVENT
BEGIN:VEVENT
DTSTART;TZID=UTC:20281017T190000
DTEND;TZID=UTC:20281017T200000
DTSTAMP:20260421T120259
CREATED:20260220T023319Z
LAST-MODIFIED:20260220T023319Z
UID:10000512-1855422000-1855425600@www.cityofzeeland.com
SUMMARY:City Council Meeting
DESCRIPTION:
URL:https://www.cityofzeeland.com/events/city-council-meeting-2-2/2028-10-17/
LOCATION:Zeeland City Hall\, 21 S. Elm Street\, City Hall\, Zeeland\, MI\, 49464\, United States
CATEGORIES:Meetings
END:VEVENT
END:VCALENDAR