BEGIN:VCALENDAR
VERSION:2.0
PRODID:-//City of Zeeland - ECPv6.15.20//NONSGML v1.0//EN
CALSCALE:GREGORIAN
METHOD:PUBLISH
X-ORIGINAL-URL:https://www.cityofzeeland.com
X-WR-CALDESC:Events for City of Zeeland
REFRESH-INTERVAL;VALUE=DURATION:PT1H
X-Robots-Tag:noindex
X-PUBLISHED-TTL:PT1H
BEGIN:VTIMEZONE
TZID:UTC
BEGIN:STANDARD
TZOFFSETFROM:+0000
TZOFFSETTO:+0000
TZNAME:UTC
DTSTART:20250101T000000
END:STANDARD
END:VTIMEZONE
BEGIN:VEVENT
DTSTART;TZID=UTC:20260414T153000
DTEND;TZID=UTC:20260414T170000
DTSTAMP:20260421T084031
CREATED:20260211T003739Z
LAST-MODIFIED:20260211T003739Z
UID:10000333-1776180600-1776186000@www.cityofzeeland.com
SUMMARY:Board of Public Works Meeting
DESCRIPTION:
URL:https://www.cityofzeeland.com/events/board-of-public-works-meeting/2026-04-14/
LOCATION:Board of Public Works Building\, 330 E Washington\, Zeeland\, MI\, 49464\, United States
CATEGORIES:Meetings
END:VEVENT
BEGIN:VEVENT
DTSTART;TZID=UTC:20260310T153000
DTEND;TZID=UTC:20260310T170000
DTSTAMP:20260421T084031
CREATED:20260211T003739Z
LAST-MODIFIED:20260211T003739Z
UID:10000332-1773156600-1773162000@www.cityofzeeland.com
SUMMARY:Board of Public Works Meeting
DESCRIPTION:
URL:https://www.cityofzeeland.com/events/board-of-public-works-meeting/2026-03-10/
LOCATION:Board of Public Works Building\, 330 E Washington\, Zeeland\, MI\, 49464\, United States
CATEGORIES:Meetings
END:VEVENT
BEGIN:VEVENT
DTSTART;TZID=UTC:20260217T153000
DTEND;TZID=UTC:20260217T173000
DTSTAMP:20260421T084031
CREATED:20260210T132851Z
LAST-MODIFIED:20260210T162040Z
UID:10000330-1771342200-1771349400@www.cityofzeeland.com
SUMMARY:Board of Public Works Budget Meeting
DESCRIPTION:
URL:https://www.cityofzeeland.com/events/board-of-public-works-budget-meeting/
LOCATION:Board of Public Works Building\, 330 E Washington\, Zeeland\, MI\, 49464\, United States
CATEGORIES:Meetings
END:VEVENT
BEGIN:VEVENT
DTSTART;TZID=UTC:20260210T153000
DTEND;TZID=UTC:20260210T170000
DTSTAMP:20260421T084031
CREATED:20260210T155838Z
LAST-MODIFIED:20260210T160701Z
UID:10000331-1770737400-1770742800@www.cityofzeeland.com
SUMMARY:Board of Public Works Meeting
DESCRIPTION:
URL:https://www.cityofzeeland.com/events/board-of-public-works-meeting-2/
LOCATION:Board of Public Works Building\, 330 E Washington\, Zeeland\, MI\, 49464\, United States
CATEGORIES:Meetings
END:VEVENT
END:VCALENDAR